Package: sesameData Version: 1.28.0 Command: /home/biocbuild/bbs-3.22-bioc/R/bin/R CMD INSTALL sesameData StartedAt: 2025-10-30 11:06:06 -0400 (Thu, 30 Oct 2025) EndedAt: 2025-10-30 11:06:24 -0400 (Thu, 30 Oct 2025) EllapsedTime: 18.2 seconds RetCode: 0 Status: OK