Package: sesameData Version: 1.28.0 Command: /home/biocbuild/bbs-3.22-bioc/R/bin/R CMD build --keep-empty-dirs --no-resave-data sesameData StartedAt: 2025-10-30 11:53:04 -0400 (Thu, 30 Oct 2025) EndedAt: 2025-10-30 11:53:49 -0400 (Thu, 30 Oct 2025) EllapsedTime: 44.9 seconds RetCode: 0 Status: OK PackageFile: sesameData_1.28.0.tar.gz PackageFileSize: 1.882 MiB