Package: seqc Version: 1.44.0 Command: /home/biocbuild/bbs-3.22-bioc/R/bin/R CMD INSTALL seqc StartedAt: 2025-11-04 10:56:06 -0500 (Tue, 04 Nov 2025) EndedAt: 2025-11-04 10:58:00 -0500 (Tue, 04 Nov 2025) EllapsedTime: 113.8 seconds RetCode: 0 Status: OK