Package: seqc Version: 1.44.0 Command: /home/biocbuild/bbs-3.22-bioc/R/bin/R CMD check --install=check:seqc.install-out.txt --library=/home/biocbuild/bbs-3.22-bioc/R/site-library --timings seqc_1.44.0.tar.gz StartedAt: 2025-11-04 12:56:15 -0500 (Tue, 04 Nov 2025) EndedAt: 2025-11-04 12:57:28 -0500 (Tue, 04 Nov 2025) EllapsedTime: 72.8 seconds RetCode: 0 Status: WARNINGS CheckDir: seqc.Rcheck Warnings: 1