Package: seqc Version: 1.42.0 Command: /home/biocbuild/bbs-3.21-bioc/R/bin/R CMD check --install=check:seqc.install-out.txt --library=/home/biocbuild/bbs-3.21-bioc/R/site-library --timings seqc_1.42.0.tar.gz StartedAt: 2025-10-14 12:56:10 -0400 (Tue, 14 Oct 2025) EndedAt: 2025-10-14 12:57:23 -0400 (Tue, 14 Oct 2025) EllapsedTime: 72.9 seconds RetCode: 0 Status: WARNINGS CheckDir: seqc.Rcheck Warnings: 1