Package: seq2pathway.data Version: 1.42.0 Command: /home/biocbuild/bbs-3.22-bioc/R/bin/R CMD build --keep-empty-dirs --no-resave-data seq2pathway.data StartedAt: 2025-11-04 11:42:22 -0500 (Tue, 04 Nov 2025) EndedAt: 2025-11-04 11:43:43 -0500 (Tue, 04 Nov 2025) EllapsedTime: 80.4 seconds RetCode: 0 Status: OK PackageFile: seq2pathway.data_1.42.0.tar.gz PackageFileSize: 97.22 MiB