Package: seq2pathway.data Version: 1.40.0 Command: /home/biocbuild/bbs-3.21-bioc/R/bin/R CMD INSTALL seq2pathway.data StartedAt: 2025-10-16 10:57:52 -0400 (Thu, 16 Oct 2025) EndedAt: 2025-10-16 10:57:54 -0400 (Thu, 16 Oct 2025) EllapsedTime: 2.1 seconds RetCode: 0 Status: OK