Package: seq2pathway.data Version: 1.42.0 Maintainer: Arjun Kinstlick MaintainerEmail: akinstlick at uchicago.edu git_url: https://git.bioconductor.org/packages/seq2pathway.data git_branch: RELEASE_3_22 git_last_commit: e8bca94 git_last_commit_date: 2025-10-29 09:56:04 -0400 (Wed, 29 Oct 2025)