Package: scpdata Version: 1.18.0 Command: /home/biocbuild/bbs-3.22-bioc/R/bin/R CMD INSTALL scpdata StartedAt: 2025-11-18 11:00:14 -0500 (Tue, 18 Nov 2025) EndedAt: 2025-11-18 11:00:45 -0500 (Tue, 18 Nov 2025) EllapsedTime: 31.4 seconds RetCode: 0 Status: OK