Package: scpdata Version: 1.18.0 Command: /home/biocbuild/bbs-3.22-bioc/R/bin/R CMD check --install=check:scpdata.install-out.txt --library=/home/biocbuild/bbs-3.22-bioc/R/site-library --timings scpdata_1.18.0.tar.gz StartedAt: 2025-11-18 13:36:40 -0500 (Tue, 18 Nov 2025) EndedAt: 2025-11-18 13:48:46 -0500 (Tue, 18 Nov 2025) EllapsedTime: 725.9 seconds RetCode: 0 Status: OK CheckDir: scpdata.Rcheck Warnings: 0