Package: scpdata Version: 1.16.1 Command: /home/biocbuild/bbs-3.21-bioc/R/bin/R CMD check --install=check:scpdata.install-out.txt --library=/home/biocbuild/bbs-3.21-bioc/R/site-library --timings scpdata_1.16.1.tar.gz StartedAt: 2025-10-14 12:55:40 -0400 (Tue, 14 Oct 2025) EndedAt: 2025-10-14 13:07:16 -0400 (Tue, 14 Oct 2025) EllapsedTime: 695.5 seconds RetCode: 0 Status: OK CheckDir: scpdata.Rcheck Warnings: 0