Package: scaeData Version: 1.6.0 Command: /home/biocbuild/bbs-3.22-bioc/R/bin/R CMD INSTALL scaeData StartedAt: 2025-10-30 10:58:15 -0400 (Thu, 30 Oct 2025) EndedAt: 2025-10-30 10:58:33 -0400 (Thu, 30 Oct 2025) EllapsedTime: 18.0 seconds RetCode: 0 Status: OK