Package: scaeData Version: 1.6.0 Command: /home/biocbuild/bbs-3.22-bioc/R/bin/R CMD build --keep-empty-dirs --no-resave-data scaeData StartedAt: 2025-10-30 11:51:22 -0400 (Thu, 30 Oct 2025) EndedAt: 2025-10-30 11:55:11 -0400 (Thu, 30 Oct 2025) EllapsedTime: 229.3 seconds RetCode: 0 Status: OK PackageFile: scaeData_1.6.0.tar.gz PackageFileSize: 300.9 KiB