Package: scTHI.data Version: 1.22.0 Command: /home/biocbuild/bbs-3.22-bioc/R/bin/R CMD check --install=check:scTHI.data.install-out.txt --library=/home/biocbuild/bbs-3.22-bioc/R/site-library --timings scTHI.data_1.22.0.tar.gz StartedAt: 2025-11-04 12:55:46 -0500 (Tue, 04 Nov 2025) EndedAt: 2025-11-04 12:56:23 -0500 (Tue, 04 Nov 2025) EllapsedTime: 37.7 seconds RetCode: 0 Status: OK CheckDir: scTHI.data.Rcheck Warnings: 0