Package: scTHI.data Version: 1.20.0 Command: /home/biocbuild/bbs-3.21-bioc/R/bin/R CMD INSTALL scTHI.data StartedAt: 2025-09-25 10:55:17 -0400 (Thu, 25 Sep 2025) EndedAt: 2025-09-25 10:55:24 -0400 (Thu, 25 Sep 2025) EllapsedTime: 7.3 seconds RetCode: 0 Status: OK