Package: scTHI.data Version: 1.20.0 Command: /home/biocbuild/bbs-3.21-bioc/R/bin/R CMD build --keep-empty-dirs --no-resave-data scTHI.data StartedAt: 2025-09-25 11:38:44 -0400 (Thu, 25 Sep 2025) EndedAt: 2025-09-25 11:38:52 -0400 (Thu, 25 Sep 2025) EllapsedTime: 8.5 seconds RetCode: 0 Status: OK PackageFile: scTHI.data_1.20.0.tar.gz PackageFileSize: 24.17 MiB