Package: scRNAseq Version: 2.23.1 Command: /home/biocbuild/bbs-3.22-bioc/R/bin/R CMD check --install=check:scRNAseq.install-out.txt --library=/home/biocbuild/bbs-3.22-bioc/R/site-library --timings scRNAseq_2.23.1.tar.gz StartedAt: 2025-10-28 13:01:59 -0400 (Tue, 28 Oct 2025) EndedAt: 2025-10-28 13:19:01 -0400 (Tue, 28 Oct 2025) EllapsedTime: 1022.2 seconds RetCode: 0 Status: OK CheckDir: scRNAseq.Rcheck Warnings: 0