Package: scMultiome Version: 1.10.0 Command: /home/biocbuild/bbs-3.22-bioc/R/bin/R CMD INSTALL scMultiome StartedAt: 2025-11-04 11:02:54 -0500 (Tue, 04 Nov 2025) EndedAt: 2025-11-04 11:03:26 -0500 (Tue, 04 Nov 2025) EllapsedTime: 32.8 seconds RetCode: 0 Status: OK