Package: scMultiome Version: 1.10.0 Command: /home/biocbuild/bbs-3.22-bioc/R/bin/R CMD build --keep-empty-dirs --no-resave-data scMultiome StartedAt: 2025-11-04 11:41:53 -0500 (Tue, 04 Nov 2025) EndedAt: 2025-11-04 11:42:46 -0500 (Tue, 04 Nov 2025) EllapsedTime: 52.4 seconds RetCode: 0 Status: OK PackageFile: scMultiome_1.10.0.tar.gz PackageFileSize: 359.8 KiB