Package: scATAC.Explorer Version: 1.15.1 Command: /home/biocbuild/bbs-3.22-bioc/R/bin/R CMD check --install=check:scATAC.Explorer.install-out.txt --library=/home/biocbuild/bbs-3.22-bioc/R/site-library --timings scATAC.Explorer_1.15.1.tar.gz StartedAt: 2025-10-28 13:01:26 -0400 (Tue, 28 Oct 2025) EndedAt: 2025-10-28 13:34:55 -0400 (Tue, 28 Oct 2025) EllapsedTime: 2009.5 seconds RetCode: 0 Status: OK CheckDir: scATAC.Explorer.Rcheck Warnings: 0