Package: scATAC.Explorer Version: 1.16.0 Command: /home/biocbuild/bbs-3.22-bioc/R/bin/R CMD build --keep-empty-dirs --no-resave-data scATAC.Explorer StartedAt: 2025-10-30 11:51:48 -0400 (Thu, 30 Oct 2025) EndedAt: 2025-10-30 11:52:44 -0400 (Thu, 30 Oct 2025) EllapsedTime: 56.0 seconds RetCode: 0 Status: OK PackageFile: scATAC.Explorer_1.16.0.tar.gz PackageFileSize: 247.8 KiB