Package: sampleClassifierData Version: 1.34.0 Command: /home/biocbuild/bbs-3.22-bioc/R/bin/R CMD INSTALL sampleClassifierData StartedAt: 2025-11-04 10:59:06 -0500 (Tue, 04 Nov 2025) EndedAt: 2025-11-04 10:59:21 -0500 (Tue, 04 Nov 2025) EllapsedTime: 14.7 seconds RetCode: 0 Status: OK