Package: rheumaticConditionWOLLBOLD Version: 1.48.0 Command: /home/biocbuild/bbs-3.22-bioc/R/bin/R CMD check --install=check:rheumaticConditionWOLLBOLD.install-out.txt --library=/home/biocbuild/bbs-3.22-bioc/R/site-library --timings rheumaticConditionWOLLBOLD_1.48.0.tar.gz StartedAt: 2025-11-04 12:48:47 -0500 (Tue, 04 Nov 2025) EndedAt: 2025-11-04 12:49:06 -0500 (Tue, 04 Nov 2025) EllapsedTime: 19.0 seconds RetCode: 0 Status: OK CheckDir: rheumaticConditionWOLLBOLD.Rcheck Warnings: 0