Package: rcellminerData Version: 2.32.0 Command: /home/biocbuild/bbs-3.22-bioc/R/bin/R CMD check --install=check:rcellminerData.install-out.txt --library=/home/biocbuild/bbs-3.22-bioc/R/site-library --timings rcellminerData_2.32.0.tar.gz StartedAt: 2025-11-04 12:47:00 -0500 (Tue, 04 Nov 2025) EndedAt: 2025-11-04 12:50:57 -0500 (Tue, 04 Nov 2025) EllapsedTime: 237.0 seconds RetCode: 0 Status: WARNINGS CheckDir: rcellminerData.Rcheck Warnings: 2