Package: rcellminerData Version: 2.32.0 Command: /home/biocbuild/bbs-3.22-bioc/R/bin/R CMD build --keep-empty-dirs --no-resave-data rcellminerData StartedAt: 2025-11-04 11:37:43 -0500 (Tue, 04 Nov 2025) EndedAt: 2025-11-04 11:42:13 -0500 (Tue, 04 Nov 2025) EllapsedTime: 270.3 seconds RetCode: 0 Status: OK PackageFile: rcellminerData_2.32.0.tar.gz PackageFileSize: 382 MiB