Package: raerdata Version: 1.8.0 Command: /home/biocbuild/bbs-3.22-bioc/R/bin/R CMD check --install=check:raerdata.install-out.txt --library=/home/biocbuild/bbs-3.22-bioc/R/site-library --timings raerdata_1.8.0.tar.gz StartedAt: 2025-11-04 12:46:47 -0500 (Tue, 04 Nov 2025) EndedAt: 2025-11-04 12:53:01 -0500 (Tue, 04 Nov 2025) EllapsedTime: 373.9 seconds RetCode: 0 Status: OK CheckDir: raerdata.Rcheck Warnings: 0