Package: qPLEXdata Version: 1.28.0 Command: /home/biocbuild/bbs-3.22-bioc/R/bin/R CMD INSTALL qPLEXdata StartedAt: 2025-11-04 11:02:18 -0500 (Tue, 04 Nov 2025) EndedAt: 2025-11-04 11:02:56 -0500 (Tue, 04 Nov 2025) EllapsedTime: 37.4 seconds RetCode: 0 Status: OK