Package: qPLEXdata Version: 1.28.0 Command: /home/biocbuild/bbs-3.22-bioc/R/bin/R CMD build --keep-empty-dirs --no-resave-data qPLEXdata StartedAt: 2025-11-04 11:37:29 -0500 (Tue, 04 Nov 2025) EndedAt: 2025-11-04 11:38:22 -0500 (Tue, 04 Nov 2025) EllapsedTime: 52.8 seconds RetCode: 1 Status: ERROR PackageFile: None PackageFileSize: NA