Package: ptairData Version: 1.18.0 Command: /home/biocbuild/bbs-3.22-bioc/R/bin/R CMD check --install=check:ptairData.install-out.txt --library=/home/biocbuild/bbs-3.22-bioc/R/site-library --timings ptairData_1.18.0.tar.gz StartedAt: 2025-11-04 12:45:42 -0500 (Tue, 04 Nov 2025) EndedAt: 2025-11-04 12:46:01 -0500 (Tue, 04 Nov 2025) EllapsedTime: 18.9 seconds RetCode: 0 Status: OK CheckDir: ptairData.Rcheck Warnings: 0