Package: prostateCancerVarambally Version: 1.36.0 Command: /home/biocbuild/bbs-3.21-bioc/R/bin/R CMD check --install=check:prostateCancerVarambally.install-out.txt --library=/home/biocbuild/bbs-3.21-bioc/R/site-library --timings prostateCancerVarambally_1.36.0.tar.gz StartedAt: 2025-10-09 12:46:13 -0400 (Thu, 09 Oct 2025) EndedAt: 2025-10-09 12:46:30 -0400 (Thu, 09 Oct 2025) EllapsedTime: 16.6 seconds RetCode: 0 Status: WARNINGS CheckDir: prostateCancerVarambally.Rcheck Warnings: 1