Package: prostateCancerTaylor Version: 1.37.0 Command: /home/biocbuild/bbs-3.22-bioc/R/bin/R CMD check --install=check:prostateCancerTaylor.install-out.txt --library=/home/biocbuild/bbs-3.22-bioc/R/site-library --timings prostateCancerTaylor_1.37.0.tar.gz StartedAt: 2025-10-28 12:52:04 -0400 (Tue, 28 Oct 2025) EndedAt: 2025-10-28 12:52:23 -0400 (Tue, 28 Oct 2025) EllapsedTime: 19.2 seconds RetCode: 0 Status: WARNINGS CheckDir: prostateCancerTaylor.Rcheck Warnings: 1