Package: prostateCancerCamcap Version: 1.36.0 Command: /home/biocbuild/bbs-3.21-bioc/R/bin/R CMD check --install=check:prostateCancerCamcap.install-out.txt --library=/home/biocbuild/bbs-3.21-bioc/R/site-library --timings prostateCancerCamcap_1.36.0.tar.gz StartedAt: 2025-10-09 12:46:02 -0400 (Thu, 09 Oct 2025) EndedAt: 2025-10-09 12:46:34 -0400 (Thu, 09 Oct 2025) EllapsedTime: 31.5 seconds RetCode: 0 Status: WARNINGS CheckDir: prostateCancerCamcap.Rcheck Warnings: 1