Package: preciseTADhub Version: 1.18.0 Command: /home/biocbuild/bbs-3.22-bioc/R/bin/R CMD build --keep-empty-dirs --no-resave-data preciseTADhub StartedAt: 2025-11-18 11:59:44 -0500 (Tue, 18 Nov 2025) EndedAt: 2025-11-18 12:01:23 -0500 (Tue, 18 Nov 2025) EllapsedTime: 99.0 seconds RetCode: 0 Status: OK PackageFile: preciseTADhub_1.18.0.tar.gz PackageFileSize: 228.5 KiB