Package: prebsdata Version: 1.46.0 Command: /home/biocbuild/bbs-3.22-bioc/R/bin/R CMD check --install=check:prebsdata.install-out.txt --library=/home/biocbuild/bbs-3.22-bioc/R/site-library --timings prebsdata_1.46.0.tar.gz StartedAt: 2025-11-04 12:44:43 -0500 (Tue, 04 Nov 2025) EndedAt: 2025-11-04 12:44:57 -0500 (Tue, 04 Nov 2025) EllapsedTime: 14.6 seconds RetCode: 0 Status: OK CheckDir: prebsdata.Rcheck Warnings: 0