Package: plotgardenerData Version: 1.16.0 Command: /home/biocbuild/bbs-3.22-bioc/R/bin/R CMD check --install=check:plotgardenerData.install-out.txt --library=/home/biocbuild/bbs-3.22-bioc/R/site-library --timings plotgardenerData_1.16.0.tar.gz StartedAt: 2025-11-04 12:44:38 -0500 (Tue, 04 Nov 2025) EndedAt: 2025-11-04 12:44:57 -0500 (Tue, 04 Nov 2025) EllapsedTime: 19.6 seconds RetCode: 0 Status: WARNINGS CheckDir: plotgardenerData.Rcheck Warnings: 1