Package: plotgardenerData Version: 1.16.0 Command: /home/biocbuild/bbs-3.22-bioc/R/bin/R CMD build --keep-empty-dirs --no-resave-data plotgardenerData StartedAt: 2025-11-04 11:36:13 -0500 (Tue, 04 Nov 2025) EndedAt: 2025-11-04 11:36:17 -0500 (Tue, 04 Nov 2025) EllapsedTime: 4.3 seconds RetCode: 0 Status: OK PackageFile: plotgardenerData_1.16.0.tar.gz PackageFileSize: 2.388 MiB