Package: pepDat Version: 1.30.0 Command: /home/biocbuild/bbs-3.22-bioc/R/bin/R CMD check --install=check:pepDat.install-out.txt --library=/home/biocbuild/bbs-3.22-bioc/R/site-library --timings pepDat_1.30.0.tar.gz StartedAt: 2025-11-04 12:44:12 -0500 (Tue, 04 Nov 2025) EndedAt: 2025-11-04 12:45:09 -0500 (Tue, 04 Nov 2025) EllapsedTime: 57.2 seconds RetCode: 0 Status: OK CheckDir: pepDat.Rcheck Warnings: 0