Package: pepDat Version: 1.30.0 Command: /home/biocbuild/bbs-3.22-bioc/R/bin/R CMD build --keep-empty-dirs --no-resave-data pepDat StartedAt: 2025-10-30 11:45:08 -0400 (Thu, 30 Oct 2025) EndedAt: 2025-10-30 11:45:25 -0400 (Thu, 30 Oct 2025) EllapsedTime: 17.7 seconds RetCode: 0 Status: OK PackageFile: pepDat_1.30.0.tar.gz PackageFileSize: 2.66 MiB