Package: pasillaBamSubset Version: 0.48.0 Command: /home/biocbuild/bbs-3.22-bioc/R/bin/R CMD check --install=check:pasillaBamSubset.install-out.txt --library=/home/biocbuild/bbs-3.22-bioc/R/site-library --timings pasillaBamSubset_0.48.0.tar.gz StartedAt: 2025-11-04 12:43:29 -0500 (Tue, 04 Nov 2025) EndedAt: 2025-11-04 12:43:42 -0500 (Tue, 04 Nov 2025) EllapsedTime: 13.0 seconds RetCode: 0 Status: OK CheckDir: pasillaBamSubset.Rcheck Warnings: 0