Package: pasillaBamSubset Version: 0.48.0 Command: /home/biocbuild/bbs-3.22-bioc/R/bin/R CMD build --keep-empty-dirs --no-resave-data pasillaBamSubset StartedAt: 2025-11-04 11:35:21 -0500 (Tue, 04 Nov 2025) EndedAt: 2025-11-04 11:35:24 -0500 (Tue, 04 Nov 2025) EllapsedTime: 2.4 seconds RetCode: 0 Status: OK PackageFile: pasillaBamSubset_0.48.0.tar.gz PackageFileSize: 15.01 MiB