Package: pasilla Version: 1.36.0 Command: /home/biocbuild/bbs-3.21-bioc/R/bin/R CMD check --install=check:pasilla.install-out.txt --library=/home/biocbuild/bbs-3.21-bioc/R/site-library --timings pasilla_1.36.0.tar.gz StartedAt: 2025-10-14 12:44:23 -0400 (Tue, 14 Oct 2025) EndedAt: 2025-10-14 12:46:28 -0400 (Tue, 14 Oct 2025) EllapsedTime: 125.0 seconds RetCode: 0 Status: OK CheckDir: pasilla.Rcheck Warnings: 0