Package: pRolocdata Version: 1.48.0 Command: /home/biocbuild/bbs-3.22-bioc/R/bin/R CMD INSTALL pRolocdata StartedAt: 2025-10-30 11:02:54 -0400 (Thu, 30 Oct 2025) EndedAt: 2025-10-30 11:04:20 -0400 (Thu, 30 Oct 2025) EllapsedTime: 85.6 seconds RetCode: 0 Status: OK