Package: orthosData Version: 1.8.0 Command: /home/biocbuild/bbs-3.22-bioc/R/bin/R CMD build --keep-empty-dirs --no-resave-data orthosData StartedAt: 2025-10-30 11:44:18 -0400 (Thu, 30 Oct 2025) EndedAt: 2025-10-30 11:45:11 -0400 (Thu, 30 Oct 2025) EllapsedTime: 52.3 seconds RetCode: 0 Status: OK PackageFile: orthosData_1.8.0.tar.gz PackageFileSize: 311.9 KiB