Package: optimalFlowData Version: 1.22.0 Command: /home/biocbuild/bbs-3.22-bioc/R/bin/R CMD INSTALL optimalFlowData StartedAt: 2025-11-04 10:55:39 -0500 (Tue, 04 Nov 2025) EndedAt: 2025-11-04 10:56:08 -0500 (Tue, 04 Nov 2025) EllapsedTime: 29.1 seconds RetCode: 0 Status: OK