Package: optimalFlowData Version: 1.22.0 Command: /home/biocbuild/bbs-3.22-bioc/R/bin/R CMD build --keep-empty-dirs --no-resave-data optimalFlowData StartedAt: 2025-11-04 11:35:12 -0500 (Tue, 04 Nov 2025) EndedAt: 2025-11-04 11:36:03 -0500 (Tue, 04 Nov 2025) EllapsedTime: 50.9 seconds RetCode: 0 Status: OK PackageFile: optimalFlowData_1.22.0.tar.gz PackageFileSize: 75.86 MiB