Package: oct4 Version: 1.26.0 Command: /home/biocbuild/bbs-3.22-bioc/R/bin/R CMD build --keep-empty-dirs --no-resave-data oct4 StartedAt: 2025-10-30 11:43:40 -0400 (Thu, 30 Oct 2025) EndedAt: 2025-10-30 11:43:57 -0400 (Thu, 30 Oct 2025) EllapsedTime: 16.3 seconds RetCode: 0 Status: OK PackageFile: oct4_1.26.0.tar.gz PackageFileSize: 192.9 MiB