Package: nullrangesData Version: 1.15.0 Command: /home/biocbuild/bbs-3.22-bioc/R/bin/R CMD check --install=check:nullrangesData.install-out.txt --library=/home/biocbuild/bbs-3.22-bioc/R/site-library --timings nullrangesData_1.15.0.tar.gz StartedAt: 2025-10-28 12:48:44 -0400 (Tue, 28 Oct 2025) EndedAt: 2025-10-28 12:52:20 -0400 (Tue, 28 Oct 2025) EllapsedTime: 216.7 seconds RetCode: 0 Status: OK CheckDir: nullrangesData.Rcheck Warnings: 0