Package: nullrangesData Version: 1.16.0 Command: /home/biocbuild/bbs-3.22-bioc/R/bin/R CMD build --keep-empty-dirs --no-resave-data nullrangesData StartedAt: 2025-10-30 11:43:26 -0400 (Thu, 30 Oct 2025) EndedAt: 2025-10-30 11:44:22 -0400 (Thu, 30 Oct 2025) EllapsedTime: 56.2 seconds RetCode: 0 Status: OK PackageFile: nullrangesData_1.16.0.tar.gz PackageFileSize: 4.148 MiB