Package: nmrdata Version: 1.0.0 Command: /home/biocbuild/bbs-3.22-bioc/R/bin/R CMD INSTALL nmrdata StartedAt: 2025-10-30 10:57:30 -0400 (Thu, 30 Oct 2025) EndedAt: 2025-10-30 10:57:33 -0400 (Thu, 30 Oct 2025) EllapsedTime: 2.5 seconds RetCode: 0 Status: OK