Package: nmrdata Version: 1.0.0 Command: /home/biocbuild/bbs-3.22-bioc/R/bin/R CMD check --install=check:nmrdata.install-out.txt --library=/home/biocbuild/bbs-3.22-bioc/R/site-library --timings nmrdata_1.0.0.tar.gz StartedAt: 2025-11-04 12:41:55 -0500 (Tue, 04 Nov 2025) EndedAt: 2025-11-04 12:42:31 -0500 (Tue, 04 Nov 2025) EllapsedTime: 35.6 seconds RetCode: 0 Status: OK CheckDir: nmrdata.Rcheck Warnings: 0